BEGIN:VCALENDAR
VERSION:2.0
PRODID:-//Prefeitura Municipal da Estância de Socorro - ECPv6.15.17.1//NONSGML v1.0//EN
CALSCALE:GREGORIAN
METHOD:PUBLISH
X-ORIGINAL-URL:https://www.socorro.sp.gov.br
X-WR-CALDESC:Eventos para Prefeitura Municipal da Estância de Socorro
REFRESH-INTERVAL;VALUE=DURATION:PT1H
X-Robots-Tag:noindex
X-PUBLISHED-TTL:PT1H
BEGIN:VTIMEZONE
TZID:America/Sao_Paulo
BEGIN:STANDARD
TZOFFSETFROM:-0300
TZOFFSETTO:-0300
TZNAME:-03
DTSTART:20210101T000000
END:STANDARD
END:VTIMEZONE
BEGIN:VEVENT
DTSTART;TZID=America/Sao_Paulo:20220717T100000
DTEND;TZID=America/Sao_Paulo:20220717T113000
DTSTAMP:20260422T193940
CREATED:20220705T135002Z
LAST-MODIFIED:20220705T135702Z
UID:44435-1658052000-1658057400@www.socorro.sp.gov.br
SUMMARY:Coração de Mosaico com Luka Fagundes
DESCRIPTION:
URL:https://www.socorro.sp.gov.br/evento/coracao-de-mosaico-com-luka-fagundes
LOCATION:Conservatório Municipal\,     Rua Coronel Florêncio Experidião\, 157 – São Bento\, Socorro – SP\, 13960-000
CATEGORIES:Artesanato
END:VEVENT
END:VCALENDAR