BEGIN:VCALENDAR
VERSION:2.0
PRODID:-//Prefeitura Municipal da Estância de Socorro - ECPv6.15.17.1//NONSGML v1.0//EN
CALSCALE:GREGORIAN
METHOD:PUBLISH
X-WR-CALNAME:Prefeitura Municipal da Estância de Socorro
X-ORIGINAL-URL:https://www.socorro.sp.gov.br
X-WR-CALDESC:Eventos para Prefeitura Municipal da Estância de Socorro
REFRESH-INTERVAL;VALUE=DURATION:PT1H
X-Robots-Tag:noindex
X-PUBLISHED-TTL:PT1H
BEGIN:VTIMEZONE
TZID:America/Sao_Paulo
BEGIN:STANDARD
TZOFFSETFROM:-0300
TZOFFSETTO:-0300
TZNAME:-03
DTSTART:20220101T000000
END:STANDARD
END:VTIMEZONE
BEGIN:VEVENT
DTSTART;TZID=America/Sao_Paulo:20230507T140000
DTEND;TZID=America/Sao_Paulo:20230507T190000
DTSTAMP:20260419T232819
CREATED:20230427T134011Z
LAST-MODIFIED:20230503T165312Z
UID:48283-1683468000-1683486000@www.socorro.sp.gov.br
SUMMARY:"Rua Viva" 5ª Edição
DESCRIPTION:Artistas e expositores podem se inscrever até o dia 02 de maio pelo link: https://socorro.sp.gov.br/ruaviva
URL:https://www.socorro.sp.gov.br/evento/rua-viva-5o-edicao-artistas-e-expositores-podem-se-inscrever-ate-02-de-maio
LOCATION:Jardim Santa Cruz
CATEGORIES:Artesanato
END:VEVENT
END:VCALENDAR